BEGIN:VCALENDAR
VERSION:2.0
PRODID:-//LeTip Of Stockton - ECPv6.15.10//NONSGML v1.0//EN
CALSCALE:GREGORIAN
METHOD:PUBLISH
X-WR-CALNAME:LeTip Of Stockton
X-ORIGINAL-URL:https://stocktonletip.com
X-WR-CALDESC:Events for LeTip Of Stockton
REFRESH-INTERVAL;VALUE=DURATION:PT1H
X-Robots-Tag:noindex
X-PUBLISHED-TTL:PT1H
BEGIN:VTIMEZONE
TZID:America/Los_Angeles
BEGIN:DAYLIGHT
TZOFFSETFROM:-0800
TZOFFSETTO:-0700
TZNAME:PDT
DTSTART:20220313T100000
END:DAYLIGHT
BEGIN:STANDARD
TZOFFSETFROM:-0700
TZOFFSETTO:-0800
TZNAME:PST
DTSTART:20221106T090000
END:STANDARD
BEGIN:DAYLIGHT
TZOFFSETFROM:-0800
TZOFFSETTO:-0700
TZNAME:PDT
DTSTART:20230312T100000
END:DAYLIGHT
BEGIN:STANDARD
TZOFFSETFROM:-0700
TZOFFSETTO:-0800
TZNAME:PST
DTSTART:20231105T090000
END:STANDARD
BEGIN:DAYLIGHT
TZOFFSETFROM:-0800
TZOFFSETTO:-0700
TZNAME:PDT
DTSTART:20240310T100000
END:DAYLIGHT
BEGIN:STANDARD
TZOFFSETFROM:-0700
TZOFFSETTO:-0800
TZNAME:PST
DTSTART:20241103T090000
END:STANDARD
END:VTIMEZONE
BEGIN:VEVENT
DTSTART;TZID=America/Los_Angeles:20230321T113000
DTEND;TZID=America/Los_Angeles:20230321T130000
DTSTAMP:20260423T055901
CREATED:20230308T230717Z
LAST-MODIFIED:20241205T215009Z
UID:2132-1679398200-1679403600@stocktonletip.com
SUMMARY:Lunch Meeting - Business Networking Event
DESCRIPTION:
URL:https://stocktonletip.com/event/lunch-meeting-business-networking-event/
LOCATION:De Vega Brothers\, 5757 Pacific Ave\, A140\, Stockton\, CA\, 95207\, United States
ATTACH;FMTTYPE=image/png:https://stocktonletip.com/wp-content/uploads/2023/03/Business-networking-lunch-event-letip-stockton.png
END:VEVENT
BEGIN:VEVENT
DTSTART;TZID=America/Los_Angeles:20230321T113000
DTEND;TZID=America/Los_Angeles:20230321T130000
DTSTAMP:20260423T055901
CREATED:20230308T230717Z
LAST-MODIFIED:20241205T215009Z
UID:2132-1679398200-1679403600@stocktonletip.com
SUMMARY:Lunch Meeting - Business Networking Event
DESCRIPTION:
URL:https://stocktonletip.com/event/lunch-meeting-business-networking-event/
LOCATION:De Vega Brothers\, 5757 Pacific Ave\, A140\, Stockton\, CA\, 95207\, United States
ATTACH;FMTTYPE=image/png:https://stocktonletip.com/wp-content/uploads/2023/03/Business-networking-lunch-event-letip-stockton.png
END:VEVENT
BEGIN:VEVENT
DTSTART;TZID=America/Los_Angeles:20230321T113000
DTEND;TZID=America/Los_Angeles:20230321T130000
DTSTAMP:20260423T055901
CREATED:20230308T230717Z
LAST-MODIFIED:20241205T215009Z
UID:2132-1679398200-1679403600@stocktonletip.com
SUMMARY:Lunch Meeting - Business Networking Event
DESCRIPTION:
URL:https://stocktonletip.com/event/lunch-meeting-business-networking-event/
LOCATION:De Vega Brothers\, 5757 Pacific Ave\, A140\, Stockton\, CA\, 95207\, United States
ATTACH;FMTTYPE=image/png:https://stocktonletip.com/wp-content/uploads/2023/03/Business-networking-lunch-event-letip-stockton.png
END:VEVENT
BEGIN:VEVENT
DTSTART;TZID=America/Los_Angeles:20230321T113000
DTEND;TZID=America/Los_Angeles:20230321T130000
DTSTAMP:20260423T055901
CREATED:20230308T230717Z
LAST-MODIFIED:20241205T215009Z
UID:2132-1679398200-1679403600@stocktonletip.com
SUMMARY:Lunch Meeting - Business Networking Event
DESCRIPTION:
URL:https://stocktonletip.com/event/lunch-meeting-business-networking-event/
LOCATION:De Vega Brothers\, 5757 Pacific Ave\, A140\, Stockton\, CA\, 95207\, United States
ATTACH;FMTTYPE=image/png:https://stocktonletip.com/wp-content/uploads/2023/03/Business-networking-lunch-event-letip-stockton.png
END:VEVENT
BEGIN:VEVENT
DTSTART;TZID=America/Los_Angeles:20230321T113000
DTEND;TZID=America/Los_Angeles:20230321T130000
DTSTAMP:20260423T055901
CREATED:20230308T230717Z
LAST-MODIFIED:20241205T215009Z
UID:2132-1679398200-1679403600@stocktonletip.com
SUMMARY:Lunch Meeting - Business Networking Event
DESCRIPTION:
URL:https://stocktonletip.com/event/lunch-meeting-business-networking-event/
LOCATION:De Vega Brothers\, 5757 Pacific Ave\, A140\, Stockton\, CA\, 95207\, United States
ATTACH;FMTTYPE=image/png:https://stocktonletip.com/wp-content/uploads/2023/03/Business-networking-lunch-event-letip-stockton.png
END:VEVENT
BEGIN:VEVENT
DTSTART;TZID=America/Los_Angeles:20230321T113000
DTEND;TZID=America/Los_Angeles:20230321T130000
DTSTAMP:20260423T055901
CREATED:20230308T230717Z
LAST-MODIFIED:20241205T215009Z
UID:2132-1679398200-1679403600@stocktonletip.com
SUMMARY:Lunch Meeting - Business Networking Event
DESCRIPTION:
URL:https://stocktonletip.com/event/lunch-meeting-business-networking-event/
LOCATION:De Vega Brothers\, 5757 Pacific Ave\, A140\, Stockton\, CA\, 95207\, United States
ATTACH;FMTTYPE=image/png:https://stocktonletip.com/wp-content/uploads/2023/03/Business-networking-lunch-event-letip-stockton.png
END:VEVENT
BEGIN:VEVENT
DTSTART;TZID=America/Los_Angeles:20230321T113000
DTEND;TZID=America/Los_Angeles:20230321T130000
DTSTAMP:20260423T055901
CREATED:20230308T230717Z
LAST-MODIFIED:20241205T215009Z
UID:2132-1679398200-1679403600@stocktonletip.com
SUMMARY:Lunch Meeting - Business Networking Event
DESCRIPTION:
URL:https://stocktonletip.com/event/lunch-meeting-business-networking-event/
LOCATION:De Vega Brothers\, 5757 Pacific Ave\, A140\, Stockton\, CA\, 95207\, United States
ATTACH;FMTTYPE=image/png:https://stocktonletip.com/wp-content/uploads/2023/03/Business-networking-lunch-event-letip-stockton.png
END:VEVENT
BEGIN:VEVENT
DTSTART;TZID=America/Los_Angeles:20230321T113000
DTEND;TZID=America/Los_Angeles:20230321T130000
DTSTAMP:20260423T055901
CREATED:20230308T230717Z
LAST-MODIFIED:20241205T215009Z
UID:2132-1679398200-1679403600@stocktonletip.com
SUMMARY:Lunch Meeting - Business Networking Event
DESCRIPTION:
URL:https://stocktonletip.com/event/lunch-meeting-business-networking-event/
LOCATION:De Vega Brothers\, 5757 Pacific Ave\, A140\, Stockton\, CA\, 95207\, United States
ATTACH;FMTTYPE=image/png:https://stocktonletip.com/wp-content/uploads/2023/03/Business-networking-lunch-event-letip-stockton.png
END:VEVENT
BEGIN:VEVENT
DTSTART;TZID=America/Los_Angeles:20230321T113000
DTEND;TZID=America/Los_Angeles:20230321T130000
DTSTAMP:20260423T055901
CREATED:20230308T230717Z
LAST-MODIFIED:20241205T215009Z
UID:2132-1679398200-1679403600@stocktonletip.com
SUMMARY:Lunch Meeting - Business Networking Event
DESCRIPTION:
URL:https://stocktonletip.com/event/lunch-meeting-business-networking-event/
LOCATION:De Vega Brothers\, 5757 Pacific Ave\, A140\, Stockton\, CA\, 95207\, United States
ATTACH;FMTTYPE=image/png:https://stocktonletip.com/wp-content/uploads/2023/03/Business-networking-lunch-event-letip-stockton.png
END:VEVENT
BEGIN:VEVENT
DTSTART;TZID=America/Los_Angeles:20230321T113000
DTEND;TZID=America/Los_Angeles:20230321T130000
DTSTAMP:20260423T055901
CREATED:20230308T230717Z
LAST-MODIFIED:20241205T215009Z
UID:2132-1679398200-1679403600@stocktonletip.com
SUMMARY:Lunch Meeting - Business Networking Event
DESCRIPTION:
URL:https://stocktonletip.com/event/lunch-meeting-business-networking-event/
LOCATION:De Vega Brothers\, 5757 Pacific Ave\, A140\, Stockton\, CA\, 95207\, United States
ATTACH;FMTTYPE=image/png:https://stocktonletip.com/wp-content/uploads/2023/03/Business-networking-lunch-event-letip-stockton.png
END:VEVENT
BEGIN:VEVENT
DTSTART;TZID=America/Los_Angeles:20230321T113000
DTEND;TZID=America/Los_Angeles:20230321T130000
DTSTAMP:20260423T055901
CREATED:20230308T230717Z
LAST-MODIFIED:20241205T215009Z
UID:2132-1679398200-1679403600@stocktonletip.com
SUMMARY:Lunch Meeting - Business Networking Event
DESCRIPTION:
URL:https://stocktonletip.com/event/lunch-meeting-business-networking-event/
LOCATION:De Vega Brothers\, 5757 Pacific Ave\, A140\, Stockton\, CA\, 95207\, United States
ATTACH;FMTTYPE=image/png:https://stocktonletip.com/wp-content/uploads/2023/03/Business-networking-lunch-event-letip-stockton.png
END:VEVENT
BEGIN:VEVENT
DTSTART;TZID=America/Los_Angeles:20230321T113000
DTEND;TZID=America/Los_Angeles:20230321T130000
DTSTAMP:20260423T055901
CREATED:20230308T230717Z
LAST-MODIFIED:20241205T215009Z
UID:2132-1679398200-1679403600@stocktonletip.com
SUMMARY:Lunch Meeting - Business Networking Event
DESCRIPTION:
URL:https://stocktonletip.com/event/lunch-meeting-business-networking-event/
LOCATION:De Vega Brothers\, 5757 Pacific Ave\, A140\, Stockton\, CA\, 95207\, United States
ATTACH;FMTTYPE=image/png:https://stocktonletip.com/wp-content/uploads/2023/03/Business-networking-lunch-event-letip-stockton.png
END:VEVENT
BEGIN:VEVENT
DTSTART;TZID=America/Los_Angeles:20230321T113000
DTEND;TZID=America/Los_Angeles:20230321T130000
DTSTAMP:20260423T055901
CREATED:20230308T230717Z
LAST-MODIFIED:20241205T215009Z
UID:2132-1679398200-1679403600@stocktonletip.com
SUMMARY:Lunch Meeting - Business Networking Event
DESCRIPTION:
URL:https://stocktonletip.com/event/lunch-meeting-business-networking-event/
LOCATION:De Vega Brothers\, 5757 Pacific Ave\, A140\, Stockton\, CA\, 95207\, United States
ATTACH;FMTTYPE=image/png:https://stocktonletip.com/wp-content/uploads/2023/03/Business-networking-lunch-event-letip-stockton.png
END:VEVENT
BEGIN:VEVENT
DTSTART;TZID=America/Los_Angeles:20230321T113000
DTEND;TZID=America/Los_Angeles:20230321T130000
DTSTAMP:20260423T055901
CREATED:20230308T230717Z
LAST-MODIFIED:20241205T215009Z
UID:2132-1679398200-1679403600@stocktonletip.com
SUMMARY:Lunch Meeting - Business Networking Event
DESCRIPTION:
URL:https://stocktonletip.com/event/lunch-meeting-business-networking-event/
LOCATION:De Vega Brothers\, 5757 Pacific Ave\, A140\, Stockton\, CA\, 95207\, United States
ATTACH;FMTTYPE=image/png:https://stocktonletip.com/wp-content/uploads/2023/03/Business-networking-lunch-event-letip-stockton.png
END:VEVENT
BEGIN:VEVENT
DTSTART;TZID=America/Los_Angeles:20230321T113000
DTEND;TZID=America/Los_Angeles:20230321T130000
DTSTAMP:20260423T055901
CREATED:20230308T230717Z
LAST-MODIFIED:20241205T215009Z
UID:2132-1679398200-1679403600@stocktonletip.com
SUMMARY:Lunch Meeting - Business Networking Event
DESCRIPTION:
URL:https://stocktonletip.com/event/lunch-meeting-business-networking-event/
LOCATION:De Vega Brothers\, 5757 Pacific Ave\, A140\, Stockton\, CA\, 95207\, United States
ATTACH;FMTTYPE=image/png:https://stocktonletip.com/wp-content/uploads/2023/03/Business-networking-lunch-event-letip-stockton.png
END:VEVENT
BEGIN:VEVENT
DTSTART;TZID=America/Los_Angeles:20230321T113000
DTEND;TZID=America/Los_Angeles:20230321T130000
DTSTAMP:20260423T055901
CREATED:20230308T230717Z
LAST-MODIFIED:20241205T215009Z
UID:2132-1679398200-1679403600@stocktonletip.com
SUMMARY:Lunch Meeting - Business Networking Event
DESCRIPTION:
URL:https://stocktonletip.com/event/lunch-meeting-business-networking-event/
LOCATION:De Vega Brothers\, 5757 Pacific Ave\, A140\, Stockton\, CA\, 95207\, United States
ATTACH;FMTTYPE=image/png:https://stocktonletip.com/wp-content/uploads/2023/03/Business-networking-lunch-event-letip-stockton.png
END:VEVENT
BEGIN:VEVENT
DTSTART;TZID=America/Los_Angeles:20230321T113000
DTEND;TZID=America/Los_Angeles:20230321T130000
DTSTAMP:20260423T055901
CREATED:20230308T230717Z
LAST-MODIFIED:20241205T215009Z
UID:2132-1679398200-1679403600@stocktonletip.com
SUMMARY:Lunch Meeting - Business Networking Event
DESCRIPTION:
URL:https://stocktonletip.com/event/lunch-meeting-business-networking-event/
LOCATION:De Vega Brothers\, 5757 Pacific Ave\, A140\, Stockton\, CA\, 95207\, United States
ATTACH;FMTTYPE=image/png:https://stocktonletip.com/wp-content/uploads/2023/03/Business-networking-lunch-event-letip-stockton.png
END:VEVENT
BEGIN:VEVENT
DTSTART;TZID=America/Los_Angeles:20230321T113000
DTEND;TZID=America/Los_Angeles:20230321T130000
DTSTAMP:20260423T055901
CREATED:20230308T230717Z
LAST-MODIFIED:20241205T215009Z
UID:2132-1679398200-1679403600@stocktonletip.com
SUMMARY:Lunch Meeting - Business Networking Event
DESCRIPTION:
URL:https://stocktonletip.com/event/lunch-meeting-business-networking-event/
LOCATION:De Vega Brothers\, 5757 Pacific Ave\, A140\, Stockton\, CA\, 95207\, United States
ATTACH;FMTTYPE=image/png:https://stocktonletip.com/wp-content/uploads/2023/03/Business-networking-lunch-event-letip-stockton.png
END:VEVENT
BEGIN:VEVENT
DTSTART;TZID=America/Los_Angeles:20230321T113000
DTEND;TZID=America/Los_Angeles:20230321T130000
DTSTAMP:20260423T055901
CREATED:20230308T230717Z
LAST-MODIFIED:20241205T215009Z
UID:2132-1679398200-1679403600@stocktonletip.com
SUMMARY:Lunch Meeting - Business Networking Event
DESCRIPTION:
URL:https://stocktonletip.com/event/lunch-meeting-business-networking-event/
LOCATION:De Vega Brothers\, 5757 Pacific Ave\, A140\, Stockton\, CA\, 95207\, United States
ATTACH;FMTTYPE=image/png:https://stocktonletip.com/wp-content/uploads/2023/03/Business-networking-lunch-event-letip-stockton.png
END:VEVENT
BEGIN:VEVENT
DTSTART;TZID=America/Los_Angeles:20230321T113000
DTEND;TZID=America/Los_Angeles:20230321T130000
DTSTAMP:20260423T055901
CREATED:20230308T230717Z
LAST-MODIFIED:20241205T215009Z
UID:2132-1679398200-1679403600@stocktonletip.com
SUMMARY:Lunch Meeting - Business Networking Event
DESCRIPTION:
URL:https://stocktonletip.com/event/lunch-meeting-business-networking-event/
LOCATION:De Vega Brothers\, 5757 Pacific Ave\, A140\, Stockton\, CA\, 95207\, United States
ATTACH;FMTTYPE=image/png:https://stocktonletip.com/wp-content/uploads/2023/03/Business-networking-lunch-event-letip-stockton.png
END:VEVENT
BEGIN:VEVENT
DTSTART;TZID=America/Los_Angeles:20230321T113000
DTEND;TZID=America/Los_Angeles:20230321T130000
DTSTAMP:20260423T055901
CREATED:20230308T230717Z
LAST-MODIFIED:20241205T215009Z
UID:2132-1679398200-1679403600@stocktonletip.com
SUMMARY:Lunch Meeting - Business Networking Event
DESCRIPTION:
URL:https://stocktonletip.com/event/lunch-meeting-business-networking-event/
LOCATION:De Vega Brothers\, 5757 Pacific Ave\, A140\, Stockton\, CA\, 95207\, United States
ATTACH;FMTTYPE=image/png:https://stocktonletip.com/wp-content/uploads/2023/03/Business-networking-lunch-event-letip-stockton.png
END:VEVENT
BEGIN:VEVENT
DTSTART;TZID=America/Los_Angeles:20230321T113000
DTEND;TZID=America/Los_Angeles:20230321T130000
DTSTAMP:20260423T055901
CREATED:20230308T230717Z
LAST-MODIFIED:20241205T215009Z
UID:2132-1679398200-1679403600@stocktonletip.com
SUMMARY:Lunch Meeting - Business Networking Event
DESCRIPTION:
URL:https://stocktonletip.com/event/lunch-meeting-business-networking-event/
LOCATION:De Vega Brothers\, 5757 Pacific Ave\, A140\, Stockton\, CA\, 95207\, United States
ATTACH;FMTTYPE=image/png:https://stocktonletip.com/wp-content/uploads/2023/03/Business-networking-lunch-event-letip-stockton.png
END:VEVENT
BEGIN:VEVENT
DTSTART;TZID=America/Los_Angeles:20230321T113000
DTEND;TZID=America/Los_Angeles:20230321T130000
DTSTAMP:20260423T055901
CREATED:20230308T230717Z
LAST-MODIFIED:20241205T215009Z
UID:2132-1679398200-1679403600@stocktonletip.com
SUMMARY:Lunch Meeting - Business Networking Event
DESCRIPTION:
URL:https://stocktonletip.com/event/lunch-meeting-business-networking-event/
LOCATION:De Vega Brothers\, 5757 Pacific Ave\, A140\, Stockton\, CA\, 95207\, United States
ATTACH;FMTTYPE=image/png:https://stocktonletip.com/wp-content/uploads/2023/03/Business-networking-lunch-event-letip-stockton.png
END:VEVENT
BEGIN:VEVENT
DTSTART;TZID=America/Los_Angeles:20230321T113000
DTEND;TZID=America/Los_Angeles:20230321T130000
DTSTAMP:20260423T055901
CREATED:20230308T230717Z
LAST-MODIFIED:20241205T215009Z
UID:2132-1679398200-1679403600@stocktonletip.com
SUMMARY:Lunch Meeting - Business Networking Event
DESCRIPTION:
URL:https://stocktonletip.com/event/lunch-meeting-business-networking-event/
LOCATION:De Vega Brothers\, 5757 Pacific Ave\, A140\, Stockton\, CA\, 95207\, United States
ATTACH;FMTTYPE=image/png:https://stocktonletip.com/wp-content/uploads/2023/03/Business-networking-lunch-event-letip-stockton.png
END:VEVENT
BEGIN:VEVENT
DTSTART;TZID=America/Los_Angeles:20230321T113000
DTEND;TZID=America/Los_Angeles:20230321T130000
DTSTAMP:20260423T055901
CREATED:20230308T230717Z
LAST-MODIFIED:20241205T215009Z
UID:2132-1679398200-1679403600@stocktonletip.com
SUMMARY:Lunch Meeting - Business Networking Event
DESCRIPTION:
URL:https://stocktonletip.com/event/lunch-meeting-business-networking-event/
LOCATION:De Vega Brothers\, 5757 Pacific Ave\, A140\, Stockton\, CA\, 95207\, United States
ATTACH;FMTTYPE=image/png:https://stocktonletip.com/wp-content/uploads/2023/03/Business-networking-lunch-event-letip-stockton.png
END:VEVENT
BEGIN:VEVENT
DTSTART;TZID=America/Los_Angeles:20230321T113000
DTEND;TZID=America/Los_Angeles:20230321T130000
DTSTAMP:20260423T055901
CREATED:20230308T230717Z
LAST-MODIFIED:20241205T215009Z
UID:2132-1679398200-1679403600@stocktonletip.com
SUMMARY:Lunch Meeting - Business Networking Event
DESCRIPTION:
URL:https://stocktonletip.com/event/lunch-meeting-business-networking-event/
LOCATION:De Vega Brothers\, 5757 Pacific Ave\, A140\, Stockton\, CA\, 95207\, United States
ATTACH;FMTTYPE=image/png:https://stocktonletip.com/wp-content/uploads/2023/03/Business-networking-lunch-event-letip-stockton.png
END:VEVENT
BEGIN:VEVENT
DTSTART;TZID=America/Los_Angeles:20230321T113000
DTEND;TZID=America/Los_Angeles:20230321T130000
DTSTAMP:20260423T055901
CREATED:20230308T230717Z
LAST-MODIFIED:20241205T215009Z
UID:2132-1679398200-1679403600@stocktonletip.com
SUMMARY:Lunch Meeting - Business Networking Event
DESCRIPTION:
URL:https://stocktonletip.com/event/lunch-meeting-business-networking-event/
LOCATION:De Vega Brothers\, 5757 Pacific Ave\, A140\, Stockton\, CA\, 95207\, United States
ATTACH;FMTTYPE=image/png:https://stocktonletip.com/wp-content/uploads/2023/03/Business-networking-lunch-event-letip-stockton.png
END:VEVENT
BEGIN:VEVENT
DTSTART;TZID=America/Los_Angeles:20230321T113000
DTEND;TZID=America/Los_Angeles:20230321T130000
DTSTAMP:20260423T055901
CREATED:20230308T230717Z
LAST-MODIFIED:20241205T215009Z
UID:2132-1679398200-1679403600@stocktonletip.com
SUMMARY:Lunch Meeting - Business Networking Event
DESCRIPTION:
URL:https://stocktonletip.com/event/lunch-meeting-business-networking-event/
LOCATION:De Vega Brothers\, 5757 Pacific Ave\, A140\, Stockton\, CA\, 95207\, United States
ATTACH;FMTTYPE=image/png:https://stocktonletip.com/wp-content/uploads/2023/03/Business-networking-lunch-event-letip-stockton.png
END:VEVENT
BEGIN:VEVENT
DTSTART;TZID=America/Los_Angeles:20230321T113000
DTEND;TZID=America/Los_Angeles:20230321T130000
DTSTAMP:20260423T055901
CREATED:20230308T230717Z
LAST-MODIFIED:20241205T215009Z
UID:2132-1679398200-1679403600@stocktonletip.com
SUMMARY:Lunch Meeting - Business Networking Event
DESCRIPTION:
URL:https://stocktonletip.com/event/lunch-meeting-business-networking-event/
LOCATION:De Vega Brothers\, 5757 Pacific Ave\, A140\, Stockton\, CA\, 95207\, United States
ATTACH;FMTTYPE=image/png:https://stocktonletip.com/wp-content/uploads/2023/03/Business-networking-lunch-event-letip-stockton.png
END:VEVENT
BEGIN:VEVENT
DTSTART;TZID=America/Los_Angeles:20230321T113000
DTEND;TZID=America/Los_Angeles:20230321T130000
DTSTAMP:20260423T055901
CREATED:20230308T230717Z
LAST-MODIFIED:20241205T215009Z
UID:2132-1679398200-1679403600@stocktonletip.com
SUMMARY:Lunch Meeting - Business Networking Event
DESCRIPTION:
URL:https://stocktonletip.com/event/lunch-meeting-business-networking-event/
LOCATION:De Vega Brothers\, 5757 Pacific Ave\, A140\, Stockton\, CA\, 95207\, United States
ATTACH;FMTTYPE=image/png:https://stocktonletip.com/wp-content/uploads/2023/03/Business-networking-lunch-event-letip-stockton.png
END:VEVENT
END:VCALENDAR